BEGIN:VCALENDAR
VERSION:2.0
PRODID:-//Tukios.com/
BEGIN:VEVENT
UID:332dc530-cdaa-45ba-8e96-4e217f861deb@www.fosterfuneralhome.com
DTSTAMP:20260424T042859Z
DTSTART:20260424T150000Z
DTEND:20260424T160000Z
SUMMARY:Graveside Service
DESCRIPTION:
URL:https://www.fosterfuneralhome.com/obituaries/steven-hoffman
LOCATION:  Church Street  Hannibal NY 13074
GEO:43.3219342;-76.5842373
END:VEVENT
END:VCALENDAR