BEGIN:VCALENDAR
VERSION:2.0
PRODID:-//Tukios.com/
BEGIN:VEVENT
UID:b05853ba-1371-4752-9603-6f5408173dc0@www.fosterfuneralhome.com
DTSTAMP:20260421T045924Z
DTSTART:20260502T150000Z
DTEND:20260502T160000Z
SUMMARY:Spring Burial
DESCRIPTION:
URL:https://www.fosterfuneralhome.com/obituaries/ricky-colegrove
LOCATION:  County Route 4   NY 
GEO:43.4072221;-76.3013261
END:VEVENT
END:VCALENDAR