BEGIN:VCALENDAR
VERSION:2.0
PRODID:-//Tukios.com/
BEGIN:VEVENT
UID:69f16e62-efa0-44f4-94e9-13ced373aaa1@www.fosterfuneralhome.com
DTSTAMP:20260421T172042Z
DTSTART:20260515T170000Z
DTEND:20260515T180000Z
SUMMARY:Burial
DESCRIPTION:
URL:https://www.fosterfuneralhome.com/obituaries/patrick-gardner
LOCATION:Gerald Solomon Saratoga National Cemetery 200 Duell Road  
	Schuylerville NY 12871
GEO:43.0261327;-73.6151241
END:VEVENT
END:VCALENDAR